BEGIN:VCALENDAR
VERSION:2.0
PRODID:-//Immaculate Heart of Mary Parish Danbury - ECPv6.15.14//NONSGML v1.0//EN
CALSCALE:GREGORIAN
METHOD:PUBLISH
X-ORIGINAL-URL:https://immaculateheartofmarychurch.org
X-WR-CALDESC:Events for Immaculate Heart of Mary Parish Danbury
REFRESH-INTERVAL;VALUE=DURATION:PT1H
X-Robots-Tag:noindex
X-PUBLISHED-TTL:PT1H
BEGIN:VTIMEZONE
TZID:UTC
BEGIN:STANDARD
TZOFFSETFROM:+0000
TZOFFSETTO:+0000
TZNAME:UTC
DTSTART:20250101T000000
END:STANDARD
END:VTIMEZONE
BEGIN:VEVENT
DTSTART;TZID=UTC:20260628T130000
DTEND;TZID=UTC:20260628T170000
DTSTAMP:20260419T194634
CREATED:20260304T104045Z
LAST-MODIFIED:20260304T191837Z
UID:24024-1782651600-1782666000@immaculateheartofmarychurch.org
SUMMARY:Festa do Espírito Santo
DESCRIPTION:Almoço e leilão
URL:https://immaculateheartofmarychurch.org/event/festa-do-espirito-santo-almoco-e-leilao/
ATTACH;FMTTYPE=image/jpeg:https://immaculateheartofmarychurch.org/wp-content/uploads/2026/03/FESTA-DO-DIVINO-16-05-25-e1772651909259.jpg
END:VEVENT
END:VCALENDAR