BEGIN:VCALENDAR
VERSION:2.0
PRODID:-//Immaculate Heart of Mary Parish Danbury - ECPv6.15.14//NONSGML v1.0//EN
CALSCALE:GREGORIAN
METHOD:PUBLISH
X-WR-CALNAME:Immaculate Heart of Mary Parish Danbury
X-ORIGINAL-URL:https://immaculateheartofmarychurch.org
X-WR-CALDESC:Events for Immaculate Heart of Mary Parish Danbury
REFRESH-INTERVAL;VALUE=DURATION:PT1H
X-Robots-Tag:noindex
X-PUBLISHED-TTL:PT1H
BEGIN:VTIMEZONE
TZID:UTC
BEGIN:STANDARD
TZOFFSETFROM:+0000
TZOFFSETTO:+0000
TZNAME:UTC
DTSTART:20250101T000000
END:STANDARD
END:VTIMEZONE
BEGIN:VEVENT
DTSTART;TZID=UTC:20260322T110000
DTEND;TZID=UTC:20260322T170000
DTSTAMP:20260419T182636
CREATED:20260304T103803Z
LAST-MODIFIED:20260304T193457Z
UID:24012-1774177200-1774198800@immaculateheartofmarychurch.org
SUMMARY:Profession of faith
DESCRIPTION:March 22\, 2026 11 am mass
URL:https://immaculateheartofmarychurch.org/event/profession-of-faith/
ATTACH;FMTTYPE=image/jpeg:https://immaculateheartofmarychurch.org/wp-content/uploads/2026/03/Profession-of-Faith-scaled-1.jpg
END:VEVENT
END:VCALENDAR